BEGIN:VCALENDAR
VERSION:2.0
PRODID:-//Procap Grischun - ECPv6.15.20//NONSGML v1.0//EN
CALSCALE:GREGORIAN
METHOD:PUBLISH
X-WR-CALNAME:Procap Grischun
X-ORIGINAL-URL:https://procapgrischun.ch
X-WR-CALDESC:Veranstaltungen für Procap Grischun
REFRESH-INTERVAL;VALUE=DURATION:PT1H
X-Robots-Tag:noindex
X-PUBLISHED-TTL:PT1H
BEGIN:VTIMEZONE
TZID:Europe/Berlin
BEGIN:DAYLIGHT
TZOFFSETFROM:+0100
TZOFFSETTO:+0200
TZNAME:CEST
DTSTART:20250330T010000
END:DAYLIGHT
BEGIN:STANDARD
TZOFFSETFROM:+0200
TZOFFSETTO:+0100
TZNAME:CET
DTSTART:20251026T010000
END:STANDARD
BEGIN:DAYLIGHT
TZOFFSETFROM:+0100
TZOFFSETTO:+0200
TZNAME:CEST
DTSTART:20260329T010000
END:DAYLIGHT
BEGIN:STANDARD
TZOFFSETFROM:+0200
TZOFFSETTO:+0100
TZNAME:CET
DTSTART:20261025T010000
END:STANDARD
BEGIN:DAYLIGHT
TZOFFSETFROM:+0100
TZOFFSETTO:+0200
TZNAME:CEST
DTSTART:20270328T010000
END:DAYLIGHT
BEGIN:STANDARD
TZOFFSETFROM:+0200
TZOFFSETTO:+0100
TZNAME:CET
DTSTART:20271031T010000
END:STANDARD
END:VTIMEZONE
BEGIN:VEVENT
DTSTART;TZID=Europe/Berlin:20260422T190000
DTEND;TZID=Europe/Berlin:20260422T210000
DTSTAMP:20260422T024021
CREATED:20260209T110542Z
LAST-MODIFIED:20260209T110957Z
UID:5592-1776884400-1776891600@procapgrischun.ch
SUMMARY:[:de]Webinar "Sexualität und Behinderung"[:]
DESCRIPTION:In diesem Webinar greifen wir die rechtlichen Situation von Menschen mit Behinderungen in Bezug auf das Thema Sexualität auf. \nProcap Rechtsanwalt Martin Boltshauser geht u.a. auf folgende Fragen ein: \n\nWie gestaltet sich die rechtliche Situation zwischen Selbstbestimmungsrecht und Schutzgedanken?\nWas sind höchstpersönliche Rechte?\nWelche Funktionen\, Rechte und Pflichten haben allfällige Beistände und / oder Eltern?\nHaben Eltern ein Mitspracherecht (bis 18 Jahre)?\n\nDatum: Donnerstag\, 22. April 2026\nOrt: Online\nZeit: 19 bis 21 Uhr \nKosten: Mitglieder kostenlos\, CHF 45.- für Nichtmitglieder \n\n\n\n\n\n\nTwitter\nAnmeldeformular \n\n	Name *\n	\n					\n\n\n	Vorname *\n	\n					\n\n\n	Strasse & Nr. *\n	\n					\n\n\n	PLZ / Ort *\n	\n					\n\n\n	Bemerkungen\n	\n		\n		Bitte zusätzliche Personen im Bemerkungsfeld mit Vornamen und Namen aufführen\n	\n\n\n	E-Mail *\n	\n					\n\n\n	Telefon *\n	\n					\n\n\n	Rollstuhl\n	\n						\n                \n                            \n                    Ja                \n\n                								\n                \n                            \n                    Nein
URL:https://procapgrischun.ch/event/webinar-sexualitaet-und-behinderung/
CATEGORIES:Kurse
END:VEVENT
BEGIN:VEVENT
DTSTART;TZID=Europe/Berlin:20260422T193000
DTEND;TZID=Europe/Berlin:20260422T213000
DTSTAMP:20260422T024021
CREATED:20260407T092014Z
LAST-MODIFIED:20260407T092247Z
UID:5646-1776886200-1776893400@procapgrischun.ch
SUMMARY:[:de]Podiumsdiskussion mit Regierungsratskandidat:innen[:]
DESCRIPTION:Im Namen von Procap Grischun und Pro Infirmis laden wir Sie herzlich zur Podiumsdiskussion zum Thema: \nZukunft der kantonalen Behindertenpolitik: Herausforderungen\, Finanzierung und gesellschaftliche Teilhabe ein. \nDie Veranstaltung findet am Mittwoch\, 22. April 2026 um 19:30 Uhr im Calvensaal der SVA Graubünden in Chur statt (Zugang Calvenweg). Anschliessend an die Diskussion findet ein Apéro statt. Moderiert wird die Veranstaltung durch Pierina Hassler (Südostschweiz). Die Veranstaltung wird in Gebärdensprache übersetzt. \nZiel der Diskussion ist es\, die Bedeutung der Behindertenpolitik innerhalb der kantonalen Politik zu beleuchten und den direkten Austausch zwischen Politik\, Betroffenen\, Fachpersonen und der interessierten Öffentlichkeit zu fördern. \nIm Rahmen des Podiums diskutieren wir unter anderem über folgende Themen: \n\nWelche Bedeutung messen Sie der Behindertenpolitik innerhalb der kantonalen Politik bei?\nWie beurteilen Sie die aktuellen finanziellen Rahmenbedingungen und wo sehen Sie Handlungsbedarf?\nWelche Rolle sollen Behindertenorganisationen künftig in den Bereichen Beratung\, Begleitung\, Integration und Interessenvertretung einnehmen?\nWie stellen Sie sicher\, dass die gleichberechtigte gesellschaftliche Teilhabe von Menschen mit Behinderungen nachhaltig gestärkt wird?\n\n\n                    Podiumsdiskussion 2026NameE-MailVornameService Rollstuhl GebärdenspracheSenden
URL:https://procapgrischun.ch/event/podiumsdiskussion-mit-regierungsratskandidatinnen/
LOCATION:Calvensaal\, Calvenweg 1\, Chur\, 7000
ATTACH;FMTTYPE=image/png:https://procapgrischun.ch/wp-content/uploads/2026/04/Podium.png
ORGANIZER;CN="Gesch%C3%A4ftsstelle Chur":MAILTO:info@procapgrischun.ch
END:VEVENT
END:VCALENDAR